Workbook

Sheet Übersicht
D1: GAP-Analyse ISO 9001:2015 → ISO 9001:2026
D2: Bewertung des Qualitätsmanagementsystems gegenüber der Neufassung
D3: Formblatt AW-QM-FB-26-01 · Rev. 1.0
B6: Projektdaten
B7: Organisation
B8: Standort(e)
B9: Geltungsbereich
B10: Zertifizierungsstelle
B11: Zertifikat gültig bis
B12: Geplantes Umstellungsaudit
B13: Durchgeführt von
B14: Datum der Analyse
B15: Gesprächspartner
B18: Auswertung nach Kapiteln
B19: Kapitel | C19: Prüfpunkte | D19: erfüllt | E19: teilweise | F19: nicht erfüllt | G19: n. z. | H19: offen | I19: Erfüllungsgrad | J19: offene Maßn.
B20: 4 Kontext der Organisation | C20: =COUNTIFS('GAP-Analyse'!$B$6:$B$200,$K20,'GAP-Analyse'!$F$6:$F$200,"<>") -> 6 | D20: =COUNTIFS('GAP-Analyse'!$B$6:$B$200,$K20,'GAP-Analyse'!$H$6:$H$200,"erfüllt") -> 0 | E20: =COUNTIFS('GAP-Analyse'!$B$6:$B$200,$K20,'GAP-Analyse'!$H$6:$H$200,"teilweise erfüllt") -> 0 | F20: =COUNTIFS('GAP-Analyse'!$B$6:$B$200,$K20,'GAP-Analyse'!$H$6:$H$200,"nicht erfüllt") -> 0 | G20: =COUNTIFS('GAP-Analyse'!$B$6:$B$200,$K20,'GAP-Analyse'!$H$6:$H$200,"n. z.") -> 0 | H20: =C20-D20-E20-F20-G20 -> 6 | I20: =IF(D20+E20+F20=0,"",(D20+0.5*E20)/(D20+E20+F20)) | J20: =COUNTIFS('GAP-Analyse'!$B$6:$B$200,$K20,'GAP-Analyse'!$J$6:$J$200,"<>",'GAP-Analyse'!$N$6:$N$200,"<>abgeschlossen") -> 0 | K20: 4
B21: 5 Führung | C21: =COUNTIFS('GAP-Analyse'!$B$6:$B$200,$K21,'GAP-Analyse'!$F$6:$F$200,"<>") -> 6 | D21: =COUNTIFS('GAP-Analyse'!$B$6:$B$200,$K21,'GAP-Analyse'!$H$6:$H$200,"erfüllt") -> 0 | E21: =COUNTIFS('GAP-Analyse'!$B$6:$B$200,$K21,'GAP-Analyse'!$H$6:$H$200,"teilweise erfüllt") -> 0 | F21: =COUNTIFS('GAP-Analyse'!$B$6:$B$200,$K21,'GAP-Analyse'!$H$6:$H$200,"nicht erfüllt") -> 0 | G21: =COUNTIFS('GAP-Analyse'!$B$6:$B$200,$K21,'GAP-Analyse'!$H$6:$H$200,"n. z.") -> 0 | H21: =C21-D21-E21-F21-G21 -> 6 | I21: =IF(D21+E21+F21=0,"",(D21+0.5*E21)/(D21+E21+F21)) | J21: =COUNTIFS('GAP-Analyse'!$B$6:$B$200,$K21,'GAP-Analyse'!$J$6:$J$200,"<>",'GAP-Analyse'!$N$6:$N$200,"<>abgeschlossen") -> 0 | K21: 5
B22: 6 Planung | C22: =COUNTIFS('GAP-Analyse'!$B$6:$B$200,$K22,'GAP-Analyse'!$F$6:$F$200,"<>") -> 5 | D22: =COUNTIFS('GAP-Analyse'!$B$6:$B$200,$K22,'GAP-Analyse'!$H$6:$H$200,"erfüllt") -> 0 | E22: =COUNTIFS('GAP-Analyse'!$B$6:$B$200,$K22,'GAP-Analyse'!$H$6:$H$200,"teilweise erfüllt") -> 0 | F22: =COUNTIFS('GAP-Analyse'!$B$6:$B$200,$K22,'GAP-Analyse'!$H$6:$H$200,"nicht erfüllt") -> 0 | G22: =COUNTIFS('GAP-Analyse'!$B$6:$B$200,$K22,'GAP-Analyse'!$H$6:$H$200,"n. z.") -> 0 | H22: =C22-D22-E22-F22-G22 -> 5 | I22: =IF(D22+E22+F22=0,"",(D22+0.5*E22)/(D22+E22+F22)) | J22: =COUNTIFS('GAP-Analyse'!$B$6:$B$200,$K22,'GAP-Analyse'!$J$6:$J$200,"<>",'GAP-Analyse'!$N$6:$N$200,"<>abgeschlossen") -> 0 | K22: 6
B23: 7 Unterstützung | C23: =COUNTIFS('GAP-Analyse'!$B$6:$B$200,$K23,'GAP-Analyse'!$F$6:$F$200,"<>") -> 11 | D23: =COUNTIFS('GAP-Analyse'!$B$6:$B$200,$K23,'GAP-Analyse'!$H$6:$H$200,"erfüllt") -> 0 | E23: =COUNTIFS('GAP-Analyse'!$B$6:$B$200,$K23,'GAP-Analyse'!$H$6:$H$200,"teilweise erfüllt") -> 0 | F23: =COUNTIFS('GAP-Analyse'!$B$6:$B$200,$K23,'GAP-Analyse'!$H$6:$H$200,"nicht erfüllt") -> 0 | G23: =COUNTIFS('GAP-Analyse'!$B$6:$B$200,$K23,'GAP-Analyse'!$H$6:$H$200,"n. z.") -> 0 | H23: =C23-D23-E23-F23-G23 -> 11 | I23: =IF(D23+E23+F23=0,"",(D23+0.5*E23)/(D23+E23+F23)) | J23: =COUNTIFS('GAP-Analyse'!$B$6:$B$200,$K23,'GAP-Analyse'!$J$6:$J$200,"<>",'GAP-Analyse'!$N$6:$N$200,"<>abgeschlossen") -> 0 | K23: 7
B24: 8 Betrieb | C24: =COUNTIFS('GAP-Analyse'!$B$6:$B$200,$K24,'GAP-Analyse'!$F$6:$F$200,"<>") -> 22 | D24: =COUNTIFS('GAP-Analyse'!$B$6:$B$200,$K24,'GAP-Analyse'!$H$6:$H$200,"erfüllt") -> 0 | E24: =COUNTIFS('GAP-Analyse'!$B$6:$B$200,$K24,'GAP-Analyse'!$H$6:$H$200,"teilweise erfüllt") -> 0 | F24: =COUNTIFS('GAP-Analyse'!$B$6:$B$200,$K24,'GAP-Analyse'!$H$6:$H$200,"nicht erfüllt") -> 0 | G24: =COUNTIFS('GAP-Analyse'!$B$6:$B$200,$K24,'GAP-Analyse'!$H$6:$H$200,"n. z.") -> 0 | H24: =C24-D24-E24-F24-G24 -> 22 | I24: =IF(D24+E24+F24=0,"",(D24+0.5*E24)/(D24+E24+F24)) | J24: =COUNTIFS('GAP-Analyse'!$B$6:$B$200,$K24,'GAP-Analyse'!$J$6:$J$200,"<>",'GAP-Analyse'!$N$6:$N$200,"<>abgeschlossen") -> 0 | K24: 8
B25: 9 Bewertung der Leistung | C25: =COUNTIFS('GAP-Analyse'!$B$6:$B$200,$K25,'GAP-Analyse'!$F$6:$F$200,"<>") -> 7 | D25: =COUNTIFS('GAP-Analyse'!$B$6:$B$200,$K25,'GAP-Analyse'!$H$6:$H$200,"erfüllt") -> 0 | E25: =COUNTIFS('GAP-Analyse'!$B$6:$B$200,$K25,'GAP-Analyse'!$H$6:$H$200,"teilweise erfüllt") -> 0 | F25: =COUNTIFS('GAP-Analyse'!$B$6:$B$200,$K25,'GAP-Analyse'!$H$6:$H$200,"nicht erfüllt") -> 0 | G25: =COUNTIFS('GAP-Analyse'!$B$6:$B$200,$K25,'GAP-Analyse'!$H$6:$H$200,"n. z.") -> 0 | H25: =C25-D25-E25-F25-G25 -> 7 | I25: =IF(D25+E25+F25=0,"",(D25+0.5*E25)/(D25+E25+F25)) | J25: =COUNTIFS('GAP-Analyse'!$B$6:$B$200,$K25,'GAP-Analyse'!$J$6:$J$200,"<>",'GAP-Analyse'!$N$6:$N$200,"<>abgeschlossen") -> 0 | K25: 9
B26: 10 Verbesserung | C26: =COUNTIFS('GAP-Analyse'!$B$6:$B$200,$K26,'GAP-Analyse'!$F$6:$F$200,"<>") -> 4 | D26: =COUNTIFS('GAP-Analyse'!$B$6:$B$200,$K26,'GAP-Analyse'!$H$6:$H$200,"erfüllt") -> 0 | E26: =COUNTIFS('GAP-Analyse'!$B$6:$B$200,$K26,'GAP-Analyse'!$H$6:$H$200,"teilweise erfüllt") -> 0 | F26: =COUNTIFS('GAP-Analyse'!$B$6:$B$200,$K26,'GAP-Analyse'!$H$6:$H$200,"nicht erfüllt") -> 0 | G26: =COUNTIFS('GAP-Analyse'!$B$6:$B$200,$K26,'GAP-Analyse'!$H$6:$H$200,"n. z.") -> 0 | H26: =C26-D26-E26-F26-G26 -> 4 | I26: =IF(D26+E26+F26=0,"",(D26+0.5*E26)/(D26+E26+F26)) | J26: =COUNTIFS('GAP-Analyse'!$B$6:$B$200,$K26,'GAP-Analyse'!$J$6:$J$200,"<>",'GAP-Analyse'!$N$6:$N$200,"<>abgeschlossen") -> 0 | K26: 10
B27: Gesamt | C27: =SUM(C20:C26) -> 61 | D27: =SUM(D20:D26) -> 0 | E27: =SUM(E20:E26) -> 0 | F27: =SUM(F20:F26) -> 0 | G27: =SUM(G20:G26) -> 0 | H27: =SUM(H20:H26) -> 61 | I27: =IF(D27+E27+F27=0,"",(D27+0.5*E27)/(D27+E27+F27)) | J27: =SUM(J20:J26) -> 0
B30: Umsetzungsstand der Änderungen 2026
B31: Art der Änderung | C31: Prüfpunkte | D31: erfüllt | E31: teilweise | F31: nicht erfüllt | G31: offen
B32: neu | C32: =COUNTIFS('GAP-Analyse'!$E$6:$E$200,B32) -> 6 | D32: =COUNTIFS('GAP-Analyse'!$E$6:$E$200,B32,'GAP-Analyse'!$H$6:$H$200,"erfüllt") -> 0 | E32: =COUNTIFS('GAP-Analyse'!$E$6:$E$200,B32,'GAP-Analyse'!$H$6:$H$200,"teilweise erfüllt") -> 0 | F32: =COUNTIFS('GAP-Analyse'!$E$6:$E$200,B32,'GAP-Analyse'!$H$6:$H$200,"nicht erfüllt") -> 0 | G32: =C32-D32-E32-F32-COUNTIFS('GAP-Analyse'!$E$6:$E$200,B32,'GAP-Analyse'!$H$6:$H$200,"n. z.") -> 6
B33: erweitert | C33: =COUNTIFS('GAP-Analyse'!$E$6:$E$200,B33) -> 5 | D33: =COUNTIFS('GAP-Analyse'!$E$6:$E$200,B33,'GAP-Analyse'!$H$6:$H$200,"erfüllt") -> 0 | E33: =COUNTIFS('GAP-Analyse'!$E$6:$E$200,B33,'GAP-Analyse'!$H$6:$H$200,"teilweise erfüllt") -> 0 | F33: =COUNTIFS('GAP-Analyse'!$E$6:$E$200,B33,'GAP-Analyse'!$H$6:$H$200,"nicht erfüllt") -> 0 | G33: =C33-D33-E33-F33-COUNTIFS('GAP-Analyse'!$E$6:$E$200,B33,'GAP-Analyse'!$H$6:$H$200,"n. z.") -> 5
B34: präzisiert | C34: =COUNTIFS('GAP-Analyse'!$E$6:$E$200,B34) -> 6 | D34: =COUNTIFS('GAP-Analyse'!$E$6:$E$200,B34,'GAP-Analyse'!$H$6:$H$200,"erfüllt") -> 0 | E34: =COUNTIFS('GAP-Analyse'!$E$6:$E$200,B34,'GAP-Analyse'!$H$6:$H$200,"teilweise erfüllt") -> 0 | F34: =COUNTIFS('GAP-Analyse'!$E$6:$E$200,B34,'GAP-Analyse'!$H$6:$H$200,"nicht erfüllt") -> 0 | G34: =C34-D34-E34-F34-COUNTIFS('GAP-Analyse'!$E$6:$E$200,B34,'GAP-Analyse'!$H$6:$H$200,"n. z.") -> 6
B35: Anmerkung ergänzt | C35: =COUNTIFS('GAP-Analyse'!$E$6:$E$200,B35) -> 6 | D35: =COUNTIFS('GAP-Analyse'!$E$6:$E$200,B35,'GAP-Analyse'!$H$6:$H$200,"erfüllt") -> 0 | E35: =COUNTIFS('GAP-Analyse'!$E$6:$E$200,B35,'GAP-Analyse'!$H$6:$H$200,"teilweise erfüllt") -> 0 | F35: =COUNTIFS('GAP-Analyse'!$E$6:$E$200,B35,'GAP-Analyse'!$H$6:$H$200,"nicht erfüllt") -> 0 | G35: =C35-D35-E35-F35-COUNTIFS('GAP-Analyse'!$E$6:$E$200,B35,'GAP-Analyse'!$H$6:$H$200,"n. z.") -> 6
B38: Fazit / Empfehlung
B46: Datum, Unterschrift – Erstellt (AuditWerk) | F46: Datum, Unterschrift – Zur Kenntnis genommen (Organisation)

Sheet GAP-Analyse
A1: GAP-Analyse ISO 9001:2026 | G1: AuditWerk
A2: =IF(Übersicht!C7="","Organisation: ________________","Organisation: "&Übersicht!C7) -> Organisation: ________________ | G2: Formblatt AW-QM-FB-26-01 · Rev. 1.0
A5: Nr. | B5: Kap. | C5: Abschnitt | D5: Thema | E5: Änderung 2026 | F5: Prüffrage (sinngemäß) | G5: Ist-Zustand / Nachweis | H5: Bewertung | I5: Festgestellte Lücke | J5: Maßnahme | K5: Verantwortlich | L5: Termin | M5: Priorität | N5: Status
C6: 4 Kontext der Organisation
A7: 1 | B7: 4 | C7: 4.1 | D7: Verstehen der Organisation und ihres Kontextes | E7: unverändert | F7: Sind die internen und externen Themen, die für Zweck und strategische Ausrichtung relevant sind, ermittelt? Werden sie regelmäßig überwacht und überprüft?
A8: 2 | B8: 4 | C8: 4.1 | D8: Klimawandel als Kontextthema | E8: neu | F8: Wurde bewertet, ob der Klimawandel für die Organisation ein relevantes Thema ist? Ist das Ergebnis nachvollziehbar begründet, auch wenn es als nicht relevant bewertet wird?
A9: 3 | B9: 4 | C9: 4.2 | D9: Erfordernisse und Erwartungen interessierter Parteien | E9: unverändert | F9: Sind die relevanten interessierten Parteien und deren Anforderungen ermittelt? Werden Änderungen verfolgt?
A10: 4 | B10: 4 | C10: 4.2 | D10: Klimabezogene Anforderungen interessierter Parteien | E10: neu | F10: Wurde geprüft, ob Kunden, Behörden oder andere Parteien klimabezogene Anforderungen stellen (z. B. CO₂-Daten, Lieferkettenanforderungen)?
A11: 5 | B11: 4 | C11: 4.3 | D11: Anwendungsbereich des QM-Systems | E11: unverändert | F11: Ist der Anwendungsbereich festgelegt und als dokumentierte Information verfügbar? Sind nicht zutreffende Anforderungen begründet?
A12: 6 | B12: 4 | C12: 4.4 | D12: QM-System und seine Prozesse | E12: präzisiert | F12: Sind die Prozesse mit Eingaben, Ergebnissen, Abfolge, Wechselwirkungen, Kriterien, Kennzahlen und Verantwortlichkeiten festgelegt? Begriff „Ergebnisse“ (Results) im Prozessmodell berücksichtigt?
C13: 5 Führung
A14: 7 | B14: 5 | C14: 5.1.1 | D14: Führung und Verpflichtung – Allgemeines | E14: unverändert | F14: Übernimmt die oberste Leitung Rechenschaft für die Wirksamkeit des QMS und die Integration in die Geschäftsprozesse? Stellt sie Ressourcen bereit?
A15: 8 | B15: 5 | C15: 5.1.1 | D15: Qualitätskultur und ethisches Verhalten | E15: neu | F15: Wie fördert die oberste Leitung nachweislich eine Qualitätskultur und ethisches Verhalten (z. B. Vorbildfunktion, Umgang mit Fehlern, Meldewege, Werte)? Welche Nachweise liegen vor?
A16: 9 | B16: 5 | C16: 5.1.2 | D16: Kundenorientierung | E16: unverändert | F16: Werden Kundenanforderungen sowie Risiken und Chancen mit Einfluss auf die Kundenzufriedenheit bestimmt und berücksichtigt?
A17: 10 | B17: 5 | C17: 5.2.1 | D17: Festlegung der Qualitätspolitik | E17: erweitert | F17: Berücksichtigt die Qualitätspolitik den Kontext der Organisation und unterstützt sie erkennbar die strategische Ausrichtung?
A18: 11 | B18: 5 | C18: 5.2.2 | D18: Bekanntmachung der Qualitätspolitik | E18: unverändert | F18: Ist die Qualitätspolitik verfügbar, intern bekannt, verstanden und angewendet? Ist sie interessierten Parteien zugänglich, soweit angemessen?
A19: 12 | B19: 5 | C19: 5.3 | D19: Rollen, Verantwortlichkeiten und Befugnisse | E19: erweitert | F19: Sind Verantwortlichkeiten zugewiesen und bekannt? Ist sichergestellt, dass Verbesserungsmöglichkeiten an die oberste Leitung berichtet werden?
C20: 6 Planung
A21: 13 | B21: 6 | C21: 6.1.1 | D21: Risiken und Chancen – Allgemeines | E21: präzisiert | F21: Werden Risiken und Chancen unter Berücksichtigung von 4.1 und 4.2 systematisch bestimmt?
A22: 14 | B22: 6 | C22: 6.1.2 | D22: Maßnahmen zum Umgang mit Risiken | E22: neu | F22: Werden Risiken bewertet, Maßnahmen geplant und in die Prozesse integriert? Wird die Wirksamkeit der Maßnahmen bewertet?
A23: 15 | B23: 6 | C23: 6.1.3 | D23: Maßnahmen zum Umgang mit Chancen | E23: neu | F23: Werden Chancen eigenständig identifiziert, bewertet und gezielt verfolgt (nicht nur als Kehrseite von Risiken)? Wird die Umsetzung überwacht?
A24: 16 | B24: 6 | C24: 6.2 | D24: Qualitätsziele und Planung zu deren Erreichung | E24: unverändert | F24: Sind messbare Qualitätsziele festgelegt, konsistent mit der Qualitätspolitik und geplant (was, wer, Ressourcen, Termin, Bewertung)?
A25: 17 | B25: 6 | C25: 6.3 | D25: Planung von Änderungen | E25: erweitert | F25: Werden Änderungen am QMS geplant durchgeführt (Zweck, Folgen, Ressourcen, Verantwortung)? Werden sie kommuniziert und nachträglich auf Wirksamkeit geprüft?
C26: 7 Unterstützung
A27: 18 | B27: 7 | C27: 7.1.1 | D27: Ressourcen – Allgemeines | E27: unverändert | F27: Sind die erforderlichen Ressourcen bestimmt und bereitgestellt, unter Berücksichtigung interner Fähigkeiten und externer Anbieter?
A28: 19 | B28: 7 | C28: 7.1.2 | D28: Personen | E28: unverändert | F28: Sind ausreichend Personen für den wirksamen Betrieb des QMS und der Prozesse verfügbar?
A29: 20 | B29: 7 | C29: 7.1.3 | D29: Infrastruktur | E29: unverändert | F29: Ist die Infrastruktur (Gebäude, Anlagen, IT, Transport) bestimmt, bereitgestellt und instand gehalten?
A30: 21 | B30: 7 | C30: 7.1.4 | D30: Prozessumgebung | E30: unverändert | F30: Ist die erforderliche Prozessumgebung (physisch, sozial, psychologisch) bestimmt und aufrechterhalten?
A31: 22 | B31: 7 | C31: 7.1.5 | D31: Ressourcen zur Überwachung und Messung | E31: unverändert | F31: Sind Prüf- und Messmittel geeignet, gekennzeichnet, kalibriert bzw. verifiziert und geschützt? Wird bei Abweichungen reagiert?
A32: 23 | B32: 7 | C32: 7.1.6 | D32: Wissen der Organisation | E32: unverändert | F32: Ist das für die Prozesse notwendige Wissen bestimmt, gesichert und verfügbar? Wie wird Wissensverlust (z. B. Renteneintritt) vermieden?
A33: 24 | B33: 7 | C33: 7.2 | D33: Kompetenz | E33: präzisiert | F33: Sind Kompetenzanforderungen für Rollen mit Einfluss auf die QMS-Leistung festgelegt? Werden Lücken geschlossen und die Wirksamkeit bewertet? Nachweise vorhanden?
A34: 25 | B34: 7 | C34: 7.3 | D34: Bewusstsein | E34: unverändert | F34: Kennen die Mitarbeitenden Qualitätspolitik, relevante Ziele, ihren Beitrag zur Wirksamkeit und die Folgen bei Nichterfüllung?
A35: 26 | B35: 7 | C35: 7.3 e) | D35: Bewusstsein für Qualitätskultur und ethisches Verhalten | E35: neu | F35: Sind sich Personen, die unter Aufsicht der Organisation arbeiten, der Qualitätskultur und des erwarteten ethischen Verhaltens bewusst? Wie wird das vermittelt und überprüft?
A36: 27 | B36: 7 | C36: 7.4 | D36: Kommunikation | E36: unverändert | F36: Ist festgelegt, worüber, wann, mit wem, wie und durch wen intern und extern kommuniziert wird?
A37: 28 | B37: 7 | C37: 7.5 | D37: Dokumentierte Information | E37: präzisiert | F37: Werden dokumentierte Informationen angemessen erstellt, gekennzeichnet, gelenkt, archiviert und vor Verlust geschützt? Dienen sie als Nachweis für Umsetzung und Wirksamkeit?
C38: 8 Betrieb
A39: 29 | B39: 8 | C39: 8.1 | D39: Betriebliche Planung und Steuerung | E39: präzisiert | F39: Werden die Prozesse zur Bereitstellung von Produkten und Dienstleistungen geplant, gesteuert und bei Änderungen bewertet? Werden ausgegliederte Prozesse gesteuert?
A40: 30 | B40: 8 | C40: 8.2.1 | D40: Kommunikation mit dem Kunden | E40: erweitert | F40: Werden Kunden, wo relevant, über Notfallmaßnahmen informiert, auch bei Störungen der gelieferten Produkte oder Dienstleistungen?
A41: 31 | B41: 8 | C41: 8.2.2 | D41: Bestimmen von Anforderungen | E41: Anmerkung ergänzt | F41: Sind Anforderungen an Produkte und Dienstleistungen, einschließlich gesetzlicher und behördlicher, vollständig bestimmt?
A42: 32 | B42: 8 | C42: 8.2.3 | D42: Überprüfung der Anforderungen | E42: unverändert | F42: Werden Anforderungen vor der Zusage an den Kunden überprüft? Sind Ergebnisse und neue Anforderungen dokumentiert?
...

Sheet Hinweise
B1: Hinweise zur Anwendung
B4: Zweck | C4: Das Formblatt dient der strukturierten Bewertung eines bestehenden QM-Systems nach ISO 9001:2015 gegenüber den Anforderungen der ISO 9001:2026 und als Grundlage für den Maßnahmenplan bis zum Umstellungsaudit.
B5: Vorgehen | C5: 1. Projektdaten auf dem Blatt „Übersicht“ ausfüllen. 2. Im Blatt „GAP-Analyse“ je Prüfpunkt Ist-Zustand und Nachweis beschreiben und bewerten. 3. Bei „teilweise“ oder „nicht erfüllt“ Lücke, Maßnahme, Verantwortung, Termin und Priorität festlegen. 4. Status laufend pflegen; die Übersicht aktualisiert sich automatisch.
B6: Eingabefelder | C6: Hell hinterlegte Zellen sind Eingabefelder. Alle übrigen Zellen (Prüffragen, Auswertung) bitte nicht überschreiben.
B7: Bewertung | C7: erfüllt – Anforderung umgesetzt und nachweisbar wirksam teilweise erfüllt – grundsätzlich umgesetzt, Nachweis oder Wirksamkeit lückenhaft nicht erfüllt – Anforderung nicht umgesetzt n. z. – nicht zutreffend (Begründung im Ist-Zustand angeben)
B8: Erfüllungsgrad | C8: (erfüllt + 0,5 × teilweise erfüllt) / Anzahl bewerteter Prüfpunkte ohne „n. z.“
B9: Änderung 2026 | C9: neu – zusätzliche Anforderung erweitert – bestehende Anforderung inhaltlich ergänzt präzisiert – sprachlich geschärft bzw. an die Harmonized Structure angepasst Anmerkung ergänzt – neue erläuternde Anmerkung ohne zusätzliche Anforderung unverändert – keine inhaltliche Änderung
B10: Priorität | C10: hoch – vor dem nächsten Audit umzusetzen mittel – innerhalb von 6 Monaten niedrig – im Rahmen der fortlaufenden Verbesserung
B11: Termine | C11: Überfällige Termine bei nicht abgeschlossenen Maßnahmen werden rot hervorgehoben.
B12: Normbezug | C12: Die Prüffragen sind sinngemäß formuliert und ersetzen nicht den Normtext. Maßgeblich ist die gültige Fassung der ISO 9001:2026 bzw. DIN EN ISO 9001:2026. Abschnittsnummern vor Anwendung mit dem erworbenen Normtext abgleichen.
B13: Haftungsausschluss | C13: Diese Arbeitshilfe wird kostenfrei und nach bestem Wissen zur Verfügung gestellt. Eine Gewähr für Richtigkeit, Vollständigkeit und Aktualität der Prüffragen und Auswertungen wird nicht übernommen. Die Nutzung erfolgt auf eigene Verantwortung; eine Haftung für Schäden, die aus der Verwendung entstehen, ist – soweit gesetzlich zulässig – ausgeschlossen. Maßgeblich ist stets der gültige Normtext. Die Arbeitshilfe ersetzt weder ein Audit noch eine Beratung im Einzelfall.
B15: Beispieleintrag
B16: Abschnitt | C16: 5.1.1 – Qualitätskultur und ethisches Verhalten
B17: Ist-Zustand / Nachweis | C17: Verhaltenskodex vorhanden (Stand 2023), Hinweisgebersystem eingeführt. Keine regelmäßigen Aktivitäten der Geschäftsführung zu Qualitätsthemen in der Fertigung nachweisbar.
B18: Bewertung | C18: teilweise erfüllt
B19: Festgestellte Lücke | C19: Förderung der Qualitätskultur durch die oberste Leitung nicht systematisch und nicht nachweisbar.
B20: Maßnahme | C20: Monatliche Shopfloor-Runde der GF mit Protokoll; Auswertung gemeldeter Beinahe-Fehler als Eingabe für die Managementbewertung.
B21: Verantwortlich / Termin | C21: GF / 31.03.2027
B22: Priorität / Status | C22: hoch / in Bearbeitung
